BEGIN:VCALENDAR
VERSION:2.0
PRODID:Spatie calendar-links
BEGIN:VEVENT
UID:8a1233d061fb40e91b792d31366448ec
SUMMARY:World Wide Rally March 19th Whitehorse
DTSTAMP;TZID=America/Vancouver:20220319T140000
DTSTART;TZID=America/Vancouver:20220319T140000
DTEND;TZID=America/Vancouver:20220319T160000
LOCATION:Whitehorse\, BC\, Canada
END:VEVENT
END:VCALENDAR