BEGIN:VCALENDAR
VERSION:2.0
PRODID:Spatie calendar-links
BEGIN:VEVENT
UID:066e69c022514fd6d01f1c76652aad59
SUMMARY:World Wide Rally March 19th Winnipeg
DTSTAMP;TZID=America/Winnipeg:20220319T130000
DTSTART;TZID=America/Winnipeg:20220319T130000
DTEND;TZID=America/Winnipeg:20220319T160000
LOCATION:Winnipeg\, Manitoba\, Canada
END:VEVENT
END:VCALENDAR