BEGIN:VCALENDAR
VERSION:2.0
PRODID:Spatie calendar-links
BEGIN:VEVENT
UID:56cfd5b68b27dc916878bade3fbc8def
SUMMARY:World Wide Rally March 19th Ucluelet-Tofino
DTSTAMP;TZID=America/Vancouver:20220319T140000
DTSTART;TZID=America/Vancouver:20220319T140000
DTEND;TZID=America/Vancouver:20220319T160000
LOCATION:Tofino\, BC\, Canada
END:VEVENT
END:VCALENDAR