BEGIN:VCALENDAR
VERSION:2.0
PRODID:Spatie calendar-links
BEGIN:VEVENT
UID:b40b14ce61ead5086a31b8a73bb13026
SUMMARY:World Wide Rally March 19th Penticton
DTSTAMP;TZID=America/Vancouver:20220319T133000
DTSTART;TZID=America/Vancouver:20220319T133000
DTEND;TZID=America/Vancouver:20220319T160000
LOCATION:Penticton\, BC\, Canada
END:VEVENT
END:VCALENDAR