BEGIN:VCALENDAR
VERSION:2.0
PRODID:Spatie calendar-links
BEGIN:VEVENT
UID:de5c1f2855a3a948d87b6fdb9d192f69
SUMMARY:World Wide Rally March 19th Hornby Island
DTSTAMP;TZID=America/Vancouver:20220319T130000
DTSTART;TZID=America/Vancouver:20220319T130000
DTEND;TZID=America/Vancouver:20220319T160000
LOCATION:Hornby Island\, BC\, Canada
END:VEVENT
END:VCALENDAR