BEGIN:VCALENDAR
VERSION:2.0
PRODID:Spatie calendar-links
BEGIN:VEVENT
UID:c657dd75d02a3dfddd4809e6a6198b16
SUMMARY:World Wide Rally For Freedom Vancouver
DTSTAMP;TZID=America/Los_Angeles:20220319T120000
DTSTART;TZID=America/Los_Angeles:20220319T120000
DTEND;TZID=America/Los_Angeles:20220319T170000
LOCATION:1055 Canada Place\, Vancouver\, British Columbia\, Canada
END:VEVENT
END:VCALENDAR