BEGIN:VCALENDAR
VERSION:2.0
PRODID:Spatie calendar-links
BEGIN:VEVENT
UID:f89ed4db270b4025e1860932a5201ef6
SUMMARY:World Wide Rally March 19th Kamloops
DTSTAMP;TZID=America/Vancouver:20220319T120000
DTSTART;TZID=America/Vancouver:20220319T120000
DTEND;TZID=America/Vancouver:20220319T150000
LOCATION:Kamloops\, BC\, Canada
END:VEVENT
END:VCALENDAR