BEGIN:VCALENDAR
VERSION:2.0
PRODID:Spatie calendar-links
BEGIN:VEVENT
UID:3b01a5b6549ba241527cee721965a89e
SUMMARY:World Wide Rally March 19th Kelowna
DTSTAMP;TZID=America/Vancouver:20220319T130000
DTSTART;TZID=America/Vancouver:20220319T130000
DTEND;TZID=America/Vancouver:20220319T160000
LOCATION:Kelowna\, BC\, Canada
END:VEVENT
END:VCALENDAR