BEGIN:VCALENDAR
VERSION:2.0
PRODID:Spatie calendar-links
BEGIN:VEVENT
UID:a384b0891bc5f930a36e98f6142d1e2a
SUMMARY:OPEN UP B.C. - Langley
DTSTAMP;TZID=America/Los_Angeles:20220320T120000
DTSTART;TZID=America/Los_Angeles:20220320T120000
DTEND;TZID=America/Los_Angeles:20220320T150000
LOCATION:20550 Douglas Crescent\, Langley\, British Columbia\, Canada
END:VEVENT
END:VCALENDAR