BEGIN:VCALENDAR
VERSION:2.0
PRODID:Spatie calendar-links
BEGIN:VEVENT
UID:2ed98d6b4d206325aa2901242b9d0e83
SUMMARY:Strengthen Your Intuition Workshop
DTSTAMP;TZID=America/Los_Angeles:20220417T120000
DTSTART;TZID=America/Los_Angeles:20220417T120000
DTEND;TZID=America/Los_Angeles:20220417T170000
LOCATION:3650 Douglas Rd.\, Burnaby\, BC\, Canada
END:VEVENT
END:VCALENDAR