BEGIN:VCALENDAR
VERSION:2.0
PRODID:Spatie calendar-links
BEGIN:VEVENT
UID:524403e2ee71c4942499dadb794a9da2
SUMMARY:The Media Is The Virus - Burnaby
DTSTAMP;TZID=America/Los_Angeles:20220326T120000
DTSTART;TZID=America/Los_Angeles:20220326T120000
DTEND;TZID=America/Los_Angeles:20220326T150000
LOCATION:7850 Enterprise Street\, Burnaby\, British Columbia\, Canada
END:VEVENT
END:VCALENDAR