BEGIN:VCALENDAR
VERSION:2.0
PRODID:Spatie calendar-links
BEGIN:VEVENT
UID:5a5bdf09fb46016b438d025de504d192
SUMMARY:The Media Is The Virus - Convoy to Burnaby
DTSTAMP;TZID=America/Los_Angeles:20220326T103000
DTSTART;TZID=America/Los_Angeles:20220326T103000
DTEND;TZID=America/Los_Angeles:20220326T104500
LOCATION:20090 91a Avenue\, Langley\, British Columbia\, Canada
END:VEVENT
END:VCALENDAR