BEGIN:VCALENDAR
VERSION:2.0
PRODID:Spatie calendar-links
BEGIN:VEVENT
UID:20cd815feeed99c26bd8e5cccc548a2c
SUMMARY:The Media Is The Virus - Vancouver
DTSTAMP;TZID=America/Los_Angeles:20220409T120000
DTSTART;TZID=America/Los_Angeles:20220409T120000
DTEND;TZID=America/Los_Angeles:20220409T150000
LOCATION:969 Robson Street\, Vancouver\, British Columbia\, Canada
END:VEVENT
END:VCALENDAR