BEGIN:VCALENDAR
VERSION:2.0
PRODID:Spatie calendar-links
BEGIN:VEVENT
UID:b8de627aff01ae1040119d8ed9d3db9b
SUMMARY:Chris Sky & United Non Compliance
DTSTAMP;TZID=America/Los_Angeles:20220410T120000
DTSTART;TZID=America/Los_Angeles:20220410T120000
DTEND;TZID=America/Los_Angeles:20220410T160000
LOCATION:1055 Canada Place\, Vancouver\, British Columbia\, Canada
END:VEVENT
END:VCALENDAR