BEGIN:VCALENDAR
VERSION:2.0
PRODID:Spatie calendar-links
BEGIN:VEVENT
UID:aff4acdd5120ae33f100fa300f067bcb
SUMMARY:All Fired Up For Freedom Rally - Grande Prairie
DTSTAMP;TZID=America/Edmonton:20210313T140000
DTSTART;TZID=America/Edmonton:20210313T140000
DTEND;TZID=America/Edmonton:20210313T160000
LOCATION:Grande Prairie\, AB\, Canada
END:VEVENT
END:VCALENDAR