BEGIN:VCALENDAR
VERSION:2.0
PRODID:Spatie calendar-links
BEGIN:VEVENT
UID:b820f2ef990c907e38645d5fc26ce6f5
SUMMARY:40th Anniversary Charter of Rights and Freedoms
DTSTAMP;TZID=America/Los_Angeles:20220423T120000
DTSTART;TZID=America/Los_Angeles:20220423T120000
DTEND;TZID=America/Los_Angeles:20220423T160000
LOCATION:501 Belleville Street\, Victoria\, British Columbia\, Canada
END:VEVENT
END:VCALENDAR