BEGIN:VCALENDAR
VERSION:2.0
PRODID:Spatie calendar-links
BEGIN:VEVENT
UID:47f41dbf274bce29b0137161b67f261b
SUMMARY:World Wide Rally May 21st Worldwide
DTSTAMP;TZID=America/Vancouver:20220521T120000
DTSTART;TZID=America/Vancouver:20220521T120000
DTEND;TZID=America/Vancouver:20220521T160000
LOCATION:Canada
END:VEVENT
END:VCALENDAR