BEGIN:VCALENDAR
VERSION:2.0
PRODID:Spatie calendar-links
BEGIN:VEVENT
UID:a45e169ac5240c83488be8e2427a14ce
SUMMARY:Spring BBQ Kickoff
DTSTAMP;TZID=America/Halifax:20220402T130000
DTSTART;TZID=America/Halifax:20220402T130000
DTEND;TZID=America/Halifax:20220402T170000
LOCATION:Saint John\, New Brunswick\, Canada
END:VEVENT
END:VCALENDAR