BEGIN:VCALENDAR
VERSION:2.0
PRODID:Spatie calendar-links
BEGIN:VEVENT
UID:f04a5d2661ca354bc7d55311b77bd78f
SUMMARY:Fellowship of the Awake
DTSTAMP;TZID=America/Los_Angeles:20220405T180000
DTSTART;TZID=America/Los_Angeles:20220405T180000
DTEND;TZID=America/Los_Angeles:20220425T170000
LOCATION:3650 Douglas Rd.\, Burnaby\, BC\, Canada
END:VEVENT
END:VCALENDAR