BEGIN:VCALENDAR
VERSION:2.0
PRODID:Spatie calendar-links
BEGIN:VEVENT
UID:eb21a4428d1588d9f3f00599d84d8b21
SUMMARY:Chris Sky at Coquitlam Plaza
DTSTAMP;TZID=America/Los_Angeles:20220416T120000
DTSTART;TZID=America/Los_Angeles:20220416T120000
DTEND;TZID=America/Los_Angeles:20220416T150000
LOCATION:1299 Pinetree Way\, Coquitlam\, British Columbia\, Canada
END:VEVENT
END:VCALENDAR