BEGIN:VCALENDAR
VERSION:2.0
PRODID:Spatie calendar-links
BEGIN:VEVENT
UID:181444595f90763faa1793c0e32e496e
SUMMARY:Freedom Worship Rally - Revival Centre - Pitt Meadows
DTSTAMP;TZID=America/Los_Angeles:20220424T180000
DTSTART;TZID=America/Los_Angeles:20220424T180000
DTEND;TZID=America/Los_Angeles:20220424T200000
LOCATION:19040 Lougheed Hwy\, Pitt Meadows\, British Columbia\, Canada
END:VEVENT
END:VCALENDAR