BEGIN:VCALENDAR
VERSION:2.0
PRODID:Spatie calendar-links
BEGIN:VEVENT
UID:0abc3837d3c2637d251cc7bad17f4c8e
SUMMARY:Rolling Thunder Ottawa ( The Bikers are Coming ) Apr 29-30
DTSTAMP;TZID=America/Toronto:20220429T120000
DTSTART;TZID=America/Toronto:20220429T120000
DTEND;TZID=America/Toronto:20220430T180000
LOCATION:Ottawa\, Ontario\, Canada
END:VEVENT
END:VCALENDAR