BEGIN:VCALENDAR
VERSION:2.0
PRODID:Spatie calendar-links
BEGIN:VEVENT
UID:f5a81ff164c0fcaecc1dfdd9bdb87ef3
SUMMARY:Arrest Justin Trudeau Rally
DTSTAMP;TZID=America/Los_Angeles:20220425T150000
DTSTART;TZID=America/Los_Angeles:20220425T150000
DTEND;TZID=America/Los_Angeles:20220425T163000
LOCATION:800 Smithe Street\, Vancouver\, British Columbia\, Canada
END:VEVENT
END:VCALENDAR