BEGIN:VCALENDAR
VERSION:2.0
PRODID:Spatie calendar-links
BEGIN:VEVENT
UID:9f339bad2666182603d60140a7511ad8
SUMMARY:Saving Democracy with Brian Peckford
DTSTAMP;TZID=America/Los_Angeles:20220528T120000
DTSTART;TZID=America/Los_Angeles:20220528T120000
DTEND;TZID=America/Los_Angeles:20220528T160000
LOCATION:501 Belleville Street\, Victoria\, British Columbia\, Canada
END:VEVENT
END:VCALENDAR