BEGIN:VCALENDAR
VERSION:2.0
PRODID:Spatie calendar-links
BEGIN:VEVENT
UID:a618e6754be6cf546f1b3687678dd14b
SUMMARY:Comedy Unmasked!
DTSTAMP;TZID=America/Vancouver:20210313T150000
DTSTART;TZID=America/Vancouver:20210313T150000
DTEND;TZID=America/Vancouver:20210313T160000
LOCATION:Vancouver\, BC\, Canada
END:VEVENT
END:VCALENDAR