BEGIN:VCALENDAR
VERSION:2.0
PRODID:Spatie calendar-links
BEGIN:VEVENT
UID:464ab66959d8cc30448f445bf7bcc288
SUMMARY:World Wide Freedom Festival
DTSTAMP;TZID=America/Los_Angeles:20220521T120000
DTSTART;TZID=America/Los_Angeles:20220521T120000
DTEND;TZID=America/Los_Angeles:20220521T160000
LOCATION:1204 Beach Avenue\, Vancouver\, British Columbia\, Canada
END:VEVENT
END:VCALENDAR