BEGIN:VCALENDAR
VERSION:2.0
PRODID:Spatie calendar-links
BEGIN:VEVENT
UID:65b1f016f18d4210322a6379bc681a26
SUMMARY:It's time to end travel restrictions
DTSTAMP;TZID=America/Moncton:20220514T110000
DTSTART;TZID=America/Moncton:20220514T110000
DTEND;TZID=America/Moncton:20220514T170000
LOCATION:25 Evergreen Avenue\, Saint John\, New Brunswick\, Canada
END:VEVENT
END:VCALENDAR