BEGIN:VCALENDAR
VERSION:2.0
PRODID:Spatie calendar-links
BEGIN:VEVENT
UID:5f7b1cf629144cf3beede153344cf13a
SUMMARY:Stand United Nationwide - College of Physicians & Surgeons
DTSTAMP;TZID=America/Los_Angeles:20220624T130000
DTSTART;TZID=America/Los_Angeles:20220624T130000
DTEND;TZID=America/Los_Angeles:20220624T160000
LOCATION:669 Howe Street\, Vancouver\, British Columbia\, Canada
END:VEVENT
END:VCALENDAR