BEGIN:VCALENDAR
VERSION:2.0
PRODID:Spatie calendar-links
BEGIN:VEVENT
UID:bed94171f241e4368a5eb135483a4dbd
SUMMARY:Freedom Worship Rally - Pitt Meadows
DTSTAMP;TZID=America/Los_Angeles:20220515T180000
DTSTART;TZID=America/Los_Angeles:20220515T180000
DTEND;TZID=America/Los_Angeles:20220515T200000
LOCATION:19040 Lougheed Highway\, Pitt Meadows\, British Columbia\, Canada
END:VEVENT
END:VCALENDAR