BEGIN:VCALENDAR
VERSION:2.0
PRODID:Spatie calendar-links
BEGIN:VEVENT
UID:ad4b3043f803c21c3129667e18424ea7
SUMMARY:Reclaiming Canada Conference
DTSTAMP;TZID=America/Vancouver:20220528T000000
DTSTART;TZID=America/Vancouver:20220528T000000
DTEND;TZID=America/Vancouver:20220529T000000
LOCATION:Victoria\, British Columbia\, Canada
END:VEVENT
END:VCALENDAR