BEGIN:VCALENDAR
VERSION:2.0
PRODID:Spatie calendar-links
BEGIN:VEVENT
UID:de13118084bbb39c2639794f748f2976
SUMMARY:Say no to unlawful mandates with Chris Sky - Stand United Vancouver
DTSTAMP;TZID=America/Los_Angeles:20220611T130000
DTSTART;TZID=America/Los_Angeles:20220611T130000
DTEND;TZID=America/Los_Angeles:20220611T160000
LOCATION:750 Howe Street\, Vancouver\, British Columbia\, Canada
END:VEVENT
END:VCALENDAR