BEGIN:VCALENDAR
VERSION:2.0
PRODID:Spatie calendar-links
BEGIN:VEVENT
UID:95dd75f1e9817547444ae31577567c9e
SUMMARY:TAKING BACK CANADA - Calgary Petroleum Club
DTSTAMP;TZID=America/Los_Angeles:20220527T100000
DTSTART;TZID=America/Los_Angeles:20220527T100000
DTEND;TZID=America/Los_Angeles:20220527T160000
LOCATION:319 5 Ave SW\, Calgary\, Alberta\, Canada
END:VEVENT
END:VCALENDAR