BEGIN:VCALENDAR
VERSION:2.0
PRODID:Spatie calendar-links
BEGIN:VEVENT
UID:bf0392551b8b6eecf05a71e74a9e1ef2
SUMMARY:Freedom Worship Rally - Vaccine Injured Pilot Speaks Out - 6 PM Sunday May 29\, 2022
DTSTAMP;TZID=America/Los_Angeles:20220529T180000
DTSTART;TZID=America/Los_Angeles:20220529T180000
DTEND;TZID=America/Los_Angeles:20220529T210000
LOCATION:19040 Lougheed Highway\, Pitt Meadows\, British Columbia\, Canada
END:VEVENT
END:VCALENDAR