BEGIN:VCALENDAR
VERSION:2.0
PRODID:Spatie calendar-links
BEGIN:VEVENT
UID:328aaf2b49ced9e7bdf29afb9a52a23c
SUMMARY:Whitby - WORLDWIDE RALLY MARCH 20TH\, 2021
DTSTAMP;TZID=America/Toronto:20210320T120000
DTSTART;TZID=America/Toronto:20210320T120000
DTEND;TZID=America/Toronto:20210320T150000
LOCATION:575 Rossland Road East\, Whitby\, ON\, Canada
END:VEVENT
END:VCALENDAR