BEGIN:VCALENDAR
VERSION:2.0
PRODID:Spatie calendar-links
BEGIN:VEVENT
UID:2a152a343758e9946964d9615c7d2208
SUMMARY:I AM FREE | A Path To Canadian Sovereignty
DTSTAMP;TZID=America/Halifax:20220604T120000
DTSTART;TZID=America/Halifax:20220604T120000
DTEND;TZID=America/Halifax:20220604T140000
LOCATION:625 Main Street\, Hampton\, New Brunswick\, Canada
END:VEVENT
END:VCALENDAR