BEGIN:VCALENDAR
VERSION:2.0
PRODID:Spatie calendar-links
BEGIN:VEVENT
UID:e7f7fcdb286b9642cf7513832ec1d205
SUMMARY:Stand United Nationwide - Edmonton
DTSTAMP;TZID=America/Los_Angeles:20220624T130000
DTSTART;TZID=America/Los_Angeles:20220624T130000
DTEND;TZID=America/Los_Angeles:20220624T160000
LOCATION:10020 100 Street NW\, Edmonton\, Alberta\, Canada
END:VEVENT
END:VCALENDAR