BEGIN:VCALENDAR
VERSION:2.0
PRODID:Spatie calendar-links
BEGIN:VEVENT
UID:bee05801d9aa4fc321ad7e4bf64ce3d5
SUMMARY:Stand United Nationwide - Bedford\, Nova Scotia
DTSTAMP;TZID=America/Los_Angeles:20220624T130000
DTSTART;TZID=America/Los_Angeles:20220624T130000
DTEND;TZID=America/Los_Angeles:20220624T160000
LOCATION:175 Western Parkway\, Bedford\, Nova Scotia\, Canada
END:VEVENT
END:VCALENDAR