BEGIN:VCALENDAR
VERSION:2.0
PRODID:Spatie calendar-links
BEGIN:VEVENT
UID:1771813b882253c9f9d3780720267b85
SUMMARY:Stand United Nationwide - Pembroke\, Ontario
DTSTAMP;TZID=America/Los_Angeles:20220624T140000
DTSTART;TZID=America/Los_Angeles:20220624T140000
DTEND;TZID=America/Los_Angeles:20220624T160000
LOCATION:141 Lake Street\, Pembroke\, Ontario\, Canada
END:VEVENT
END:VCALENDAR