BEGIN:VCALENDAR
VERSION:2.0
PRODID:Spatie calendar-links
BEGIN:VEVENT
UID:d8a99faa00617af1a1715a2a702ed00b
SUMMARY:Stand United Nationwide - Saint John's\, Newfoundland
DTSTAMP;TZID=America/Los_Angeles:20220624T130000
DTSTART;TZID=America/Los_Angeles:20220624T130000
DTEND;TZID=America/Los_Angeles:20220624T160000
LOCATION:139 Water Street\, Saint John's\, Newfoundland\, Canada
END:VEVENT
END:VCALENDAR