BEGIN:VCALENDAR
VERSION:2.0
PRODID:Spatie calendar-links
BEGIN:VEVENT
UID:54550d691ce092872d65ed8a7ca13bfb
SUMMARY:Stand United Nationwide - Winnipeg\, Manitoba
DTSTAMP;TZID=America/Los_Angeles:20220624T100000
DTSTART;TZID=America/Los_Angeles:20220624T100000
DTEND;TZID=America/Los_Angeles:20220624T120000
LOCATION:1661 Portage Avenue\, Winnipeg\, Manitoba\, Canada
END:VEVENT
END:VCALENDAR