BEGIN:VCALENDAR
VERSION:2.0
PRODID:Spatie calendar-links
BEGIN:VEVENT
UID:57f548fdb968dc80e9b5253d73c42472
SUMMARY:Stand United Nationwide - Toronto\, Ontario
DTSTAMP;TZID=America/Los_Angeles:20220624T130000
DTSTART;TZID=America/Los_Angeles:20220624T130000
DTEND;TZID=America/Los_Angeles:20220624T160000
LOCATION:80 College Street\, Toronto\, Ontario\, Canada
END:VEVENT
END:VCALENDAR