BEGIN:VCALENDAR
VERSION:2.0
PRODID:Spatie calendar-links
BEGIN:VEVENT
UID:cbbc08e626f10ae067fb35db0fbae3ef
SUMMARY:Nationwide Candlelight Vigils - Multiple Locations
DTSTAMP;TZID=America/Vancouver:20220618T000000
DTSTART;TZID=America/Vancouver:20220618T000000
DTEND;TZID=America/Vancouver:20220618T000000
LOCATION:1515 Blanshard Street\, Victoria\, British Columbia\, Canada
END:VEVENT
END:VCALENDAR