BEGIN:VCALENDAR
VERSION:2.0
PRODID:Spatie calendar-links
BEGIN:VEVENT
UID:6828bb7ae59fd6a5e16ff9074c7c0994
SUMMARY:Kelowna - WORLDWIDE RALLY MARCH 20TH\, 2021
DTSTAMP;TZID=America/Toronto:20210320T113000
DTSTART;TZID=America/Toronto:20210320T113000
DTEND;TZID=America/Toronto:20210320T150000
LOCATION:Kelowna\, BC\, Canada
END:VEVENT
END:VCALENDAR