BEGIN:VCALENDAR
VERSION:2.0
PRODID:Spatie calendar-links
BEGIN:VEVENT
UID:dfd866650f1104ed510a804180330fa5
SUMMARY:YVR AIRPORT RALLY - Round 3
DTSTAMP;TZID=America/Los_Angeles:20220618T120000
DTSTART;TZID=America/Los_Angeles:20220618T120000
DTEND;TZID=America/Los_Angeles:20220618T160000
LOCATION:1211 Grant McConachie Way\, Richmond\, British Columbia\, Canada
END:VEVENT
END:VCALENDAR