BEGIN:VCALENDAR
VERSION:2.0
PRODID:Spatie calendar-links
BEGIN:VEVENT
UID:497370d25ca9eb4937c8b572fb29f7f8
SUMMARY:Candlelight Vigils - Healing Our Communities
DTSTAMP;TZID=America/Los_Angeles:20220618T200000
DTSTART;TZID=America/Los_Angeles:20220618T200000
DTEND;TZID=America/Los_Angeles:20220618T220000
LOCATION:750 Hornby Street\, Vancouver\, British Columbia\, Canada
END:VEVENT
END:VCALENDAR