BEGIN:VCALENDAR
VERSION:2.0
PRODID:Spatie calendar-links
BEGIN:VEVENT
UID:35745c6917b1883a1089f1838bad8be8
SUMMARY:Meet the doctors on Friday\, July 1 at Yarrow Pioneer Park in Chilliwack
DTSTAMP;TZID=America/Los_Angeles:20220701T120000
DTSTART;TZID=America/Los_Angeles:20220701T120000
DTEND;TZID=America/Los_Angeles:20220714T160000
LOCATION:4390 Kehler St\, Chillwack\, British Columbia\, Canada
END:VEVENT
END:VCALENDAR