BEGIN:VCALENDAR
VERSION:2.0
PRODID:Spatie calendar-links
BEGIN:VEVENT
UID:e59f11e844e068b7b4b1652f25f6518b
SUMMARY:MUSIC NIGHT - Union of the People - July 1\, 2022
DTSTAMP;TZID=America/Los_Angeles:20220701T160000
DTSTART;TZID=America/Los_Angeles:20220701T160000
DTEND;TZID=America/Los_Angeles:20220701T230000
LOCATION:Coquitlam\, British Columbia\, Canada
END:VEVENT
END:VCALENDAR