BEGIN:VCALENDAR
VERSION:2.0
PRODID:Spatie calendar-links
BEGIN:VEVENT
UID:5f5e0f779a8c3aef3d95859cb1b5b8d5
SUMMARY:A Pragmatic Path From Fiat To Freedom. A Solution To Modern Slavery
DTSTAMP;TZID=America/Toronto:20220704T070000
DTSTART;TZID=America/Toronto:20220704T070000
DTEND;TZID=America/Toronto:20220704T093000
END:VEVENT
END:VCALENDAR