BEGIN:VCALENDAR
VERSION:2.0
PRODID:Spatie calendar-links
BEGIN:VEVENT
UID:38bec266e33643f91322825782f1a095
SUMMARY:Ocean 2 Ocean Freedom Rally
DTSTAMP;TZID=America/Vancouver:20220716T000000
DTSTART;TZID=America/Vancouver:20220716T000000
DTEND;TZID=America/Vancouver:20220716T170000
END:VEVENT
END:VCALENDAR