BEGIN:VCALENDAR
VERSION:2.0
PRODID:Spatie calendar-links
BEGIN:VEVENT
UID:111fe07ec50684a14a69f00646d715d7
SUMMARY:July 1 Freedom Celebration 
DTSTAMP;TZID=America/Toronto:20220701T000000
DTSTART;TZID=America/Toronto:20220701T000000
DTEND;TZID=America/Toronto:20220701T000000
LOCATION:23  Diana\, Toronto\, ON\, Canada
END:VEVENT
END:VCALENDAR